BEGIN:VCALENDAR
PRODID:-//Microsoft Corporation//Outlook 14.0 MIMEDIR//EN
VERSION:2.0
METHOD:PUBLISH
X-MS-OLK-FORCEINSPECTOROPEN:TRUE
BEGIN:VTIMEZONE
TZID:GMT Standard Time
BEGIN:STANDARD
DTSTART:16011028T020000
RRULE:FREQ=YEARLY;BYDAY=-1SU;BYMONTH=10
TZOFFSETFROM:+0100
TZOFFSETTO:-0000
END:STANDARD
BEGIN:DAYLIGHT
DTSTART:16010325T010000
RRULE:FREQ=YEARLY;BYDAY=-1SU;BYMONTH=3
TZOFFSETFROM:-0000
TZOFFSETTO:+0100
END:DAYLIGHT
END:VTIMEZONE
BEGIN:VEVENT
CLASS:PUBLIC
CREATED:20150812T110749Z
DTEND;TZID="GMT Standard Time":20160614T203000
DTSTAMP:20150812T110749Z
DTSTART;TZID="GMT Standard Time":20160614T190000
LAST-MODIFIED:20150812T110749Z
LOCATION:Central Hall\, 2 West Tollcross\, Edinburgh EH3 9BP
PRIORITY:5
SEQUENCE:0
SUMMARY;LANGUAGE=en-gb:EDFAS evening lecture - "William Beckford\, Patron o
	f Silversmiths" - Timothy Schroder
TRANSP:OPAQUE
UID:4447-07DF051A-0097-1429-FF31-0074F
X-MICROSOFT-CDO-BUSYSTATUS:BUSY
X-MICROSOFT-CDO-IMPORTANCE:1
X-MICROSOFT-DISALLOW-COUNTER:FALSE
X-MS-OLK-ALLOWEXTERNCHECK:TRUE
X-MS-OLK-AUTOFILLLOCATION:FALSE
X-MS-OLK-AUTOSTARTCHECK:FALSE
X-MS-OLK-CONFTYPE:0
END:VEVENT
END:VCALENDAR
